BEGIN:VCALENDAR
VERSION:2.0
PRODID:icalendar-ruby
CALSCALE:GREGORIAN
METHOD:PUBLISH
BEGIN:VTIMEZONE
TZID:Pacific/Auckland
BEGIN:DAYLIGHT
DTSTART:20200927T030000
TZOFFSETFROM:+1200
TZOFFSETTO:+1300
RRULE:FREQ=YEARLY;BYDAY=4SU;BYMONTH=9
TZNAME:NZDT
END:DAYLIGHT
BEGIN:STANDARD
DTSTART:20210404T020000
TZOFFSETFROM:+1300
TZOFFSETTO:+1200
RRULE:FREQ=YEARLY;BYDAY=1SU;BYMONTH=4
TZNAME:NZST
END:STANDARD
END:VTIMEZONE
BEGIN:VEVENT
DTSTAMP:20210122T102734Z
UID:inspection_908777
DTSTART;TZID=Pacific/Auckland:20210124T140000
DTEND;TZID=Pacific/Auckland:20210124T143000
CLASS:PUBLIC
CREATED:20210121T174634
DESCRIPTION: 
LAST-MODIFIED:20210121T174634
LOCATION:149 Rutland Street\, SAINT ALBANS\, CANTERBURY\, CHRISTCHURCH\, Ne
 w Zealand
SUMMARY:149 Rutland Street\,  Inspection
URL:http://www.opes.co.nz/
END:VEVENT
END:VCALENDAR
